BEGIN:VCALENDAR
VERSION:2.0
CALSCALE:GREGORIAN
PRODID:-//Diputació de Barcelona//DibaCMS//EN
BEGIN:VEVENT
UID:6745
DTSTAMP:20260425T155904
DTSTART:20121215T120000
DTEND:20121215T000000
SUMMARY:Nadal 2012. Petits Lectors. Un conte al sac
LOCATION:
METHOD:PUBLISH
X-WR-CALNAME:caldesm@caldesdemontbui.cat
X-WR-TIMEZONE:Europe/Madrid
DESCRIPTION:
URI:https://www.caldesdemontbui.cat/actualitat/agenda/nadal-2012-petits-lectors-un-conte-al-sac.html
CLASS:PUBLIC
END:VEVENT
END:VCALENDAR
