BEGIN:VCALENDAR
VERSION:2.0
CALSCALE:GREGORIAN
PRODID:-//Diputació de Barcelona//DibaCMS//EN
BEGIN:VEVENT
UID:6744
DTSTAMP:20260425T160230
DTSTART:20121215T100000
DTEND:20121215T000000
SUMMARY:Caldes Bull amb la Marató: Ciclo Indoor
LOCATION:
METHOD:PUBLISH
X-WR-CALNAME:caldesm@caldesdemontbui.cat
X-WR-TIMEZONE:Europe/Madrid
DESCRIPTION:
URI:https://www.caldesdemontbui.cat/actualitat/agenda/caldes-bull-amb-la-marato-ciclo-indoor.html
CLASS:PUBLIC
END:VEVENT
END:VCALENDAR
