BEGIN:VCALENDAR
VERSION:2.0
CALSCALE:GREGORIAN
PRODID:-//Diputació de Barcelona//DibaCMS//EN
BEGIN:VEVENT
UID:6743
DTSTAMP:20260425T185214
DTSTART:20121215T100000
DTEND:20121215T140000
SUMMARY:Caldes bull amb la Marató: Activitats solidàries 
LOCATION:
METHOD:PUBLISH
X-WR-CALNAME:caldesm@caldesdemontbui.cat
X-WR-TIMEZONE:Europe/Madrid
DESCRIPTION:
URI:https://www.caldesdemontbui.cat/actualitat/agenda/caldes-bull-amb-la-marato-activitats-solidaries-.html
CLASS:PUBLIC
END:VEVENT
END:VCALENDAR
