BEGIN:VCALENDAR
VERSION:2.0
CALSCALE:GREGORIAN
PRODID:-//Diputació de Barcelona//DibaCMS//EN
BEGIN:VEVENT
UID:6741
DTSTAMP:20260425T174145
DTSTART:20121215T090000
DTEND:20121215T000000
SUMMARY:Nadal 2012. X Escola de ciclisme. Tots els dissabtes de desembre i gener
LOCATION:
METHOD:PUBLISH
X-WR-CALNAME:caldesm@caldesdemontbui.cat
X-WR-TIMEZONE:Europe/Madrid
DESCRIPTION:
URI:https://www.caldesdemontbui.cat/actualitat/agenda/nadal-2012-x-escola-de-ciclisme-tots-els-dissabtes-de-desembre-i-gener.html
CLASS:PUBLIC
END:VEVENT
END:VCALENDAR
