BEGIN:VCALENDAR
VERSION:2.0
CALSCALE:GREGORIAN
PRODID:-//Diputació de Barcelona//DibaCMS//EN
BEGIN:VEVENT
UID:6740
DTSTAMP:20260425T160845
DTSTART:20121215T000000
DTEND:20121215T000000
SUMMARY:Caldes bull amb la Marató: el Casc Antic també bull amb la Marató
LOCATION:
METHOD:PUBLISH
X-WR-CALNAME:caldesm@caldesdemontbui.cat
X-WR-TIMEZONE:Europe/Madrid
DESCRIPTION:
URI:https://www.caldesdemontbui.cat/actualitat/agenda/caldes-bull-amb-la-marato-el-casc-antic-tambe-bull-amb-la-marato.html
CLASS:PUBLIC
END:VEVENT
END:VCALENDAR
