BEGIN:VCALENDAR
VERSION:2.0
CALSCALE:GREGORIAN
PRODID:-//Diputació de Barcelona//DibaCMS//EN
BEGIN:VEVENT
UID:6735
DTSTAMP:20260425T160204
DTSTART:20121214T200000
DTEND:20121214T000000
SUMMARY:Conferència "Els mites de la ciència"
LOCATION:
METHOD:PUBLISH
X-WR-CALNAME:caldesm@caldesdemontbui.cat
X-WR-TIMEZONE:Europe/Madrid
DESCRIPTION:
URI:https://www.caldesdemontbui.cat/actualitat/agenda/conferencia-els-mites-de-la-ciencia.html
CLASS:PUBLIC
END:VEVENT
END:VCALENDAR
