BEGIN:VCALENDAR
VERSION:2.0
CALSCALE:GREGORIAN
PRODID:-//Diputació de Barcelona//DibaCMS//EN
BEGIN:VEVENT
UID:6734
DTSTAMP:20260425T161041
DTSTART:20121214T193000
DTEND:20121214T000000
SUMMARY:Xerrada "Expedicions a Làponia", a càrrec de Luís Martínez
LOCATION:
METHOD:PUBLISH
X-WR-CALNAME:caldesm@caldesdemontbui.cat
X-WR-TIMEZONE:Europe/Madrid
DESCRIPTION:
URI:https://www.caldesdemontbui.cat/actualitat/agenda/xerrada-expedicions-a-laponia-a-carrec-de-luis-martinez.html
CLASS:PUBLIC
END:VEVENT
END:VCALENDAR
