BEGIN:VCALENDAR
VERSION:2.0
CALSCALE:GREGORIAN
PRODID:-//Diputació de Barcelona//DibaCMS//EN
BEGIN:VEVENT
UID:6732
DTSTAMP:20260425T161414
DTSTART:20121214T180000
DTEND:20121214T000000
SUMMARY:Caldes Bull amb la Marató: Xerrada i Taula Rodona: Plantem cara al càncer
LOCATION:
METHOD:PUBLISH
X-WR-CALNAME:caldesm@caldesdemontbui.cat
X-WR-TIMEZONE:Europe/Madrid
DESCRIPTION:
URI:https://www.caldesdemontbui.cat/actualitat/agenda/caldes-bull-amb-la-marato-xerrada-i-taula-rodona-plantem-cara-al-cancer.html
CLASS:PUBLIC
END:VEVENT
END:VCALENDAR
