BEGIN:VCALENDAR
VERSION:2.0
CALSCALE:GREGORIAN
PRODID:-//Diputació de Barcelona//DibaCMS//EN
BEGIN:VEVENT
UID:6731
DTSTAMP:20260426T060254
DTSTART:20121213T180000
DTEND:20121213T000000
SUMMARY:Contes en anglès. STORY TIME: Happy Christmas, Spot!
LOCATION:
METHOD:PUBLISH
X-WR-CALNAME:caldesm@caldesdemontbui.cat
X-WR-TIMEZONE:Europe/Madrid
DESCRIPTION:
URI:https://www.caldesdemontbui.cat/actualitat/agenda/contes-en-angles-story-time-happy-christmas-spot.html
CLASS:PUBLIC
END:VEVENT
END:VCALENDAR
