BEGIN:VCALENDAR
VERSION:2.0
CALSCALE:GREGORIAN
PRODID:-//Diputació de Barcelona//DibaCMS//EN
BEGIN:VEVENT
UID:6729
DTSTAMP:20260425T185412
DTSTART:20121212T183000
DTEND:20121212T000000
SUMMARY:Exposició "Arpilleres: dones, canvis i històries de vida". Del 10 al 22 de desembre
LOCATION:
METHOD:PUBLISH
X-WR-CALNAME:caldesm@caldesdemontbui.cat
X-WR-TIMEZONE:Europe/Madrid
DESCRIPTION:
URI:https://www.caldesdemontbui.cat/actualitat/agenda/exposicio-arpilleres-dones-canvis-i-histories-de-vida-del-10-al-22-de-desembre.html
CLASS:PUBLIC
END:VEVENT
END:VCALENDAR
