BEGIN:VCALENDAR
VERSION:2.0
CALSCALE:GREGORIAN
PRODID:-//Diputació de Barcelona//DibaCMS//EN
BEGIN:VEVENT
UID:6728
DTSTAMP:20260425T221842
DTSTART:20121212T090000
DTEND:20121212T000000
SUMMARY:Caminada pel Negrell i Can Valls
LOCATION:
METHOD:PUBLISH
X-WR-CALNAME:caldesm@caldesdemontbui.cat
X-WR-TIMEZONE:Europe/Madrid
DESCRIPTION:
URI:https://www.caldesdemontbui.cat/actualitat/agenda/caminada-pel-negrell-i-can-valls.html
CLASS:PUBLIC
END:VEVENT
END:VCALENDAR
