BEGIN:VCALENDAR
VERSION:2.0
CALSCALE:GREGORIAN
PRODID:-//Diputació de Barcelona//DibaCMS//EN
BEGIN:VEVENT
UID:6727
DTSTAMP:20260425T151305
DTSTART:20121211T000000
DTEND:20121211T000000
SUMMARY:Nadal 2012. Vacancetes de pre Nadal a Puigcerdà-La Catalunya Nord. 11, 12 i 13 de desembre
LOCATION:
METHOD:PUBLISH
X-WR-CALNAME:caldesm@caldesdemontbui.cat
X-WR-TIMEZONE:Europe/Madrid
DESCRIPTION:
URI:https://www.caldesdemontbui.cat/actualitat/agenda/nadal-2012-vacancetes-de-pre-nadal-a-puigcerda-la-catalunya-nord-11-12-i-13-de-desembre.html
CLASS:PUBLIC
END:VEVENT
END:VCALENDAR
