BEGIN:VCALENDAR
VERSION:2.0
CALSCALE:GREGORIAN
PRODID:-//Diputació de Barcelona//DibaCMS//EN
BEGIN:VEVENT
UID:6723
DTSTAMP:20260425T144856
DTSTART:20121206T103000
DTEND:20121206T000000
SUMMARY:Matinal d'Hoquei amb la Selecció Catalana
LOCATION:
METHOD:PUBLISH
X-WR-CALNAME:caldesm@caldesdemontbui.cat
X-WR-TIMEZONE:Europe/Madrid
DESCRIPTION:
URI:https://www.caldesdemontbui.cat/actualitat/agenda/matinal-dhoquei-amb-la-seleccio-catalana.html
CLASS:PUBLIC
END:VEVENT
END:VCALENDAR
