BEGIN:VCALENDAR
VERSION:2.0
CALSCALE:GREGORIAN
PRODID:-//Diputació de Barcelona//DibaCMS//EN
BEGIN:VEVENT
UID:6721
DTSTAMP:20260425T190404
DTSTART:20121205T090000
DTEND:20121205T000000
SUMMARY:Nadal 2012. Caminades de l'Esplai. 5, 12 i 19 de desembre
LOCATION:
METHOD:PUBLISH
X-WR-CALNAME:caldesm@caldesdemontbui.cat
X-WR-TIMEZONE:Europe/Madrid
DESCRIPTION:
URI:https://www.caldesdemontbui.cat/actualitat/agenda/nadal-2012-caminades-de-lesplai-5-12-i-19-de-desembre.html
CLASS:PUBLIC
END:VEVENT
END:VCALENDAR
