BEGIN:VCALENDAR
VERSION:2.0
CALSCALE:GREGORIAN
PRODID:-//Diputació de Barcelona//DibaCMS//EN
BEGIN:VEVENT
UID:6719
DTSTAMP:20260426T060143
DTSTART:20121202T100000
DTEND:20121202T000000
SUMMARY:XX Cursa de Muntanya El Farell
LOCATION:
METHOD:PUBLISH
X-WR-CALNAME:caldesm@caldesdemontbui.cat
X-WR-TIMEZONE:Europe/Madrid
DESCRIPTION:
URI:https://www.caldesdemontbui.cat/actualitat/agenda/xx-cursa-de-muntanya-el-farell.html
CLASS:PUBLIC
END:VEVENT
END:VCALENDAR
