BEGIN:VCALENDAR
VERSION:2.0
CALSCALE:GREGORIAN
PRODID:-//Diputació de Barcelona//DibaCMS//EN
BEGIN:VEVENT
UID:6712
DTSTAMP:20260426T000811
DTSTART:20121201T000000
DTEND:20121201T000000
SUMMARY:Campanya de Nadal 2012. Campanya de recollida de joguines "Apropa'ns a la il·lusió: un gest, una joguina!"
LOCATION:
METHOD:PUBLISH
X-WR-CALNAME:caldesm@caldesdemontbui.cat
X-WR-TIMEZONE:Europe/Madrid
DESCRIPTION:
URI:https://www.caldesdemontbui.cat/actualitat/agenda/campanya-de-nadal-2012-campanya-de-recollida-de-joguines-apropans-a-la-illusio-un-gest-una-joguina.html
CLASS:PUBLIC
END:VEVENT
END:VCALENDAR
