BEGIN:VCALENDAR
VERSION:2.0
CALSCALE:GREGORIAN
PRODID:-//Diputació de Barcelona//DibaCMS//EN
BEGIN:VEVENT
UID:6711
DTSTAMP:20260425T174816
DTSTART:20121201T000000
DTEND:20121202T000000
SUMMARY:XXVII Fira de Nadal de Caldes de Montbui 
LOCATION:
METHOD:PUBLISH
X-WR-CALNAME:caldesm@caldesdemontbui.cat
X-WR-TIMEZONE:Europe/Madrid
DESCRIPTION:
URI:https://www.caldesdemontbui.cat/actualitat/agenda/xxvii-fira-de-nadal-de-caldes-de-montbui-.html
CLASS:PUBLIC
END:VEVENT
END:VCALENDAR
