BEGIN:VCALENDAR
VERSION:2.0
CALSCALE:GREGORIAN
PRODID:-//Diputació de Barcelona//DibaCMS//EN
BEGIN:VEVENT
UID:6709
DTSTAMP:20260425T162530
DTSTART:20121130T180000
DTEND:20121130T000000
SUMMARY:Hora del conte: El col·leccionista de paraules, a càrrec de Yolanda Soriano
LOCATION:
METHOD:PUBLISH
X-WR-CALNAME:caldesm@caldesdemontbui.cat
X-WR-TIMEZONE:Europe/Madrid
DESCRIPTION:
URI:https://www.caldesdemontbui.cat/actualitat/agenda/hora-del-conte-el-colleccionista-de-paraules-a-carrec-de-yolanda-soriano.html
CLASS:PUBLIC
END:VEVENT
END:VCALENDAR
