BEGIN:VCALENDAR
VERSION:2.0
CALSCALE:GREGORIAN
PRODID:-//Diputació de Barcelona//DibaCMS//EN
BEGIN:VEVENT
UID:6707
DTSTAMP:20260425T132110
DTSTART:20121130T150000
DTEND:20121130T213000
SUMMARY:Gran recapte d'aliments a Catalunya
LOCATION:
METHOD:PUBLISH
X-WR-CALNAME:caldesm@caldesdemontbui.cat
X-WR-TIMEZONE:Europe/Madrid
DESCRIPTION:
URI:https://www.caldesdemontbui.cat/actualitat/agenda/gran-recapte-daliments-a-catalunya.html
CLASS:PUBLIC
END:VEVENT
END:VCALENDAR
