BEGIN:VCALENDAR
VERSION:2.0
CALSCALE:GREGORIAN
PRODID:-//Diputació de Barcelona//DibaCMS//EN
BEGIN:VEVENT
UID:6706
DTSTAMP:20260425T145712
DTSTART:20121129T210000
DTEND:20121129T000000
SUMMARY:Xerrada "Els reis ja vénen, quines joguines portaran?" a càrrec d'Oriol Ripoll
LOCATION:
METHOD:PUBLISH
X-WR-CALNAME:caldesm@caldesdemontbui.cat
X-WR-TIMEZONE:Europe/Madrid
DESCRIPTION:
URI:https://www.caldesdemontbui.cat/actualitat/agenda/xerrada-els-reis-ja-venen-quines-joguines-portaran-a-carrec-doriol-ripoll.html
CLASS:PUBLIC
END:VEVENT
END:VCALENDAR
