BEGIN:VCALENDAR
VERSION:2.0
CALSCALE:GREGORIAN
PRODID:-//Diputació de Barcelona//DibaCMS//EN
BEGIN:VEVENT
UID:6703
DTSTAMP:20260425T122208
DTSTART:20121128T170000
DTEND:20121128T000000
SUMMARY:Seminari " Els errors més freqüents del jove empresari/ària" adreçat a les persones emprenedores i empreses de nova creació
LOCATION:
METHOD:PUBLISH
X-WR-CALNAME:caldesm@caldesdemontbui.cat
X-WR-TIMEZONE:Europe/Madrid
DESCRIPTION:
URI:https://www.caldesdemontbui.cat/actualitat/agenda/seminari--els-errors-mes-freqents-del-jove-empresariaria-adrecat-a-les-persones-emprenedores-i-empreses-de-nova-creacio.html
CLASS:PUBLIC
END:VEVENT
END:VCALENDAR
