BEGIN:VCALENDAR
VERSION:2.0
CALSCALE:GREGORIAN
PRODID:-//Diputació de Barcelona//DibaCMS//EN
BEGIN:VEVENT
UID:6702
DTSTAMP:20260425T130845
DTSTART:20121128T160000
DTEND:20121128T000000
SUMMARY:Activitats per la Marató de TV3
LOCATION:
METHOD:PUBLISH
X-WR-CALNAME:caldesm@caldesdemontbui.cat
X-WR-TIMEZONE:Europe/Madrid
DESCRIPTION:
URI:https://www.caldesdemontbui.cat/actualitat/agenda/activitats-per-la-marato-de-tv3.html
CLASS:PUBLIC
END:VEVENT
END:VCALENDAR
