BEGIN:VCALENDAR
VERSION:2.0
CALSCALE:GREGORIAN
PRODID:-//Diputació de Barcelona//DibaCMS//EN
BEGIN:VEVENT
UID:6699
DTSTAMP:20260425T185538
DTSTART:20121125T183000
DTEND:20121125T000000
SUMMARY:Teatre: El cafè de la Marina
LOCATION:
METHOD:PUBLISH
X-WR-CALNAME:caldesm@caldesdemontbui.cat
X-WR-TIMEZONE:Europe/Madrid
DESCRIPTION:
URI:https://www.caldesdemontbui.cat/actualitat/agenda/teatre-el-cafe-de-la-marina.html
CLASS:PUBLIC
END:VEVENT
END:VCALENDAR
