BEGIN:VCALENDAR
VERSION:2.0
CALSCALE:GREGORIAN
PRODID:-//Diputació de Barcelona//DibaCMS//EN
BEGIN:VEVENT
UID:6697
DTSTAMP:20260425T122112
DTSTART:20121122T200000
DTEND:20121122T000000
SUMMARY: Xerrada "L'educació emocional a la família" 
LOCATION:
METHOD:PUBLISH
X-WR-CALNAME:caldesm@caldesdemontbui.cat
X-WR-TIMEZONE:Europe/Madrid
DESCRIPTION:
URI:https://www.caldesdemontbui.cat/actualitat/agenda/-xerrada-leducacio-emocional-a-la-familia-.html
CLASS:PUBLIC
END:VEVENT
END:VCALENDAR
