BEGIN:VCALENDAR
VERSION:2.0
CALSCALE:GREGORIAN
PRODID:-//Diputació de Barcelona//DibaCMS//EN
BEGIN:VEVENT
UID:6693
DTSTAMP:20260425T123111
DTSTART:20121120T200000
DTEND:20121120T000000
SUMMARY:Camins diversos, un sol objectiu històric: Catalunya nou estat d'Europa
LOCATION:
METHOD:PUBLISH
X-WR-CALNAME:caldesm@caldesdemontbui.cat
X-WR-TIMEZONE:Europe/Madrid
DESCRIPTION:
URI:https://www.caldesdemontbui.cat/actualitat/agenda/camins-diversos-un-sol-objectiu-historic-catalunya-nou-estat-deuropa.html
CLASS:PUBLIC
END:VEVENT
END:VCALENDAR
