BEGIN:VCALENDAR
VERSION:2.0
CALSCALE:GREGORIAN
PRODID:-//Diputació de Barcelona//DibaCMS//EN
BEGIN:VEVENT
UID:6692
DTSTAMP:20260425T135238
DTSTART:20121120T180000
DTEND:20121120T000000
SUMMARY:Campanya informativa sobre productes financers d'alt risc
LOCATION:
METHOD:PUBLISH
X-WR-CALNAME:caldesm@caldesdemontbui.cat
X-WR-TIMEZONE:Europe/Madrid
DESCRIPTION:
URI:https://www.caldesdemontbui.cat/actualitat/agenda/campanya-informativa-sobre-productes-financers-dalt-risc.html
CLASS:PUBLIC
END:VEVENT
END:VCALENDAR
