BEGIN:VCALENDAR
VERSION:2.0
CALSCALE:GREGORIAN
PRODID:-//Diputació de Barcelona//DibaCMS//EN
BEGIN:VEVENT
UID:6689
DTSTAMP:20260425T135404
DTSTART:20121117T210000
DTEND:20121117T000000
SUMMARY:Botifarrada i ball
LOCATION:
METHOD:PUBLISH
X-WR-CALNAME:caldesm@caldesdemontbui.cat
X-WR-TIMEZONE:Europe/Madrid
DESCRIPTION:
URI:https://www.caldesdemontbui.cat/actualitat/agenda/botifarrada-i-ball.html
CLASS:PUBLIC
END:VEVENT
END:VCALENDAR
