BEGIN:VCALENDAR
VERSION:2.0
CALSCALE:GREGORIAN
PRODID:-//Diputació de Barcelona//DibaCMS//EN
BEGIN:VEVENT
UID:6687
DTSTAMP:20260421T033645
DTSTART:20121117T120000
DTEND:20121117T000000
SUMMARY:Narració de contes per a petits lectors: Un conte al sac
LOCATION:
METHOD:PUBLISH
X-WR-CALNAME:caldesm@caldesdemontbui.cat
X-WR-TIMEZONE:Europe/Madrid
DESCRIPTION:
URI:https://www.caldesdemontbui.cat/actualitat/agenda/narracio-de-contes-per-a-petits-lectors-un-conte-al-sac.html
CLASS:PUBLIC
END:VEVENT
END:VCALENDAR
