BEGIN:VCALENDAR
VERSION:2.0
CALSCALE:GREGORIAN
PRODID:-//Diputació de Barcelona//DibaCMS//EN
BEGIN:VEVENT
UID:6686
DTSTAMP:20260425T124257
DTSTART:20121116T200000
DTEND:20121116T000000
SUMMARY:Celebració de la Festa de la Verge del Quinche (vigília)
LOCATION:
METHOD:PUBLISH
X-WR-CALNAME:caldesm@caldesdemontbui.cat
X-WR-TIMEZONE:Europe/Madrid
DESCRIPTION:
URI:https://www.caldesdemontbui.cat/actualitat/agenda/celebracio-de-la-festa-de-la-verge-del-quinche-vigilia.html
CLASS:PUBLIC
END:VEVENT
END:VCALENDAR
