BEGIN:VCALENDAR
VERSION:2.0
CALSCALE:GREGORIAN
PRODID:-//Diputació de Barcelona//DibaCMS//EN
BEGIN:VEVENT
UID:6684
DTSTAMP:20260425T134825
DTSTART:20121115T180000
DTEND:20121115T000000
SUMMARY:Contes en anglès. STORY TIME: The Naughty Pancake
LOCATION:
METHOD:PUBLISH
X-WR-CALNAME:caldesm@caldesdemontbui.cat
X-WR-TIMEZONE:Europe/Madrid
DESCRIPTION:
URI:https://www.caldesdemontbui.cat/actualitat/agenda/contes-en-angles-story-time-the-naughty-pancake.html
CLASS:PUBLIC
END:VEVENT
END:VCALENDAR
