BEGIN:VCALENDAR
VERSION:2.0
CALSCALE:GREGORIAN
PRODID:-//Diputació de Barcelona//DibaCMS//EN
BEGIN:VEVENT
UID:6683
DTSTAMP:20260425T135254
DTSTART:20121114T170000
DTEND:20121114T000000
SUMMARY:Cinefòrum: Un cuento chino
LOCATION:
METHOD:PUBLISH
X-WR-CALNAME:caldesm@caldesdemontbui.cat
X-WR-TIMEZONE:Europe/Madrid
DESCRIPTION:
URI:https://www.caldesdemontbui.cat/actualitat/agenda/cineforum-un-cuento-chino.html
CLASS:PUBLIC
END:VEVENT
END:VCALENDAR
