BEGIN:VCALENDAR
VERSION:2.0
CALSCALE:GREGORIAN
PRODID:-//Diputació de Barcelona//DibaCMS//EN
BEGIN:VEVENT
UID:6681
DTSTAMP:20260424T100526
DTSTART:20121113T193000
DTEND:20121113T000000
SUMMARY:Contes per adults: La veritat oculta, de Pere Calders, a càrrec d'Albert Estengre
LOCATION:
METHOD:PUBLISH
X-WR-CALNAME:caldesm@caldesdemontbui.cat
X-WR-TIMEZONE:Europe/Madrid
DESCRIPTION:
URI:https://www.caldesdemontbui.cat/actualitat/agenda/contes-per-adults-la-veritat-oculta-de-pere-calders-a-carrec-dalbert-estengre.html
CLASS:PUBLIC
END:VEVENT
END:VCALENDAR
