BEGIN:VCALENDAR
VERSION:2.0
CALSCALE:GREGORIAN
PRODID:-//Diputació de Barcelona//DibaCMS//EN
BEGIN:VEVENT
UID:6680
DTSTAMP:20260424T113458
DTSTART:20121113T180000
DTEND:20121113T000000
SUMMARY:Taller multimèdia: "Vorejant la riera", un conte de Pere Calders, en pantalla
LOCATION:
METHOD:PUBLISH
X-WR-CALNAME:caldesm@caldesdemontbui.cat
X-WR-TIMEZONE:Europe/Madrid
DESCRIPTION:
URI:https://www.caldesdemontbui.cat/actualitat/agenda/taller-multimedia-vorejant-la-riera-un-conte-de-pere-calders-en-pantalla.html
CLASS:PUBLIC
END:VEVENT
END:VCALENDAR
