BEGIN:VCALENDAR
VERSION:2.0
CALSCALE:GREGORIAN
PRODID:-//Diputació de Barcelona//DibaCMS//EN
BEGIN:VEVENT
UID:6679
DTSTAMP:20260424T083459
DTSTART:20121113T180000
DTEND:20121113T000000
SUMMARY:Seminari "10 formes d'augmentar el benefici" adreçat ales micro, petites i mitjanes empreses.
LOCATION:
METHOD:PUBLISH
X-WR-CALNAME:caldesm@caldesdemontbui.cat
X-WR-TIMEZONE:Europe/Madrid
DESCRIPTION:
URI:https://www.caldesdemontbui.cat/actualitat/agenda/seminari-10-formes-daugmentar-el-benefici-adrecat-ales-micro-petites-i-mitjanes-empreses.html
CLASS:PUBLIC
END:VEVENT
END:VCALENDAR
