BEGIN:VCALENDAR
VERSION:2.0
CALSCALE:GREGORIAN
PRODID:-//Diputació de Barcelona//DibaCMS//EN
BEGIN:VEVENT
UID:6676
DTSTAMP:20260425T185117
DTSTART:20121108T193000
DTEND:20121108T000000
SUMMARY:Conferència	 "Una veu encara viva", Joan Maragall i la poesia popular, a càrrec de Tònia Passola
LOCATION:
METHOD:PUBLISH
X-WR-CALNAME:caldesm@caldesdemontbui.cat
X-WR-TIMEZONE:Europe/Madrid
DESCRIPTION:
URI:https://www.caldesdemontbui.cat/actualitat/agenda/conferencia-una-veu-encara-viva-joan-maragall-i-la-poesia-popular-a-carrec-de-tonia-passola.html
CLASS:PUBLIC
END:VEVENT
END:VCALENDAR
