BEGIN:VCALENDAR
VERSION:2.0
CALSCALE:GREGORIAN
PRODID:-//Diputació de Barcelona//DibaCMS//EN
BEGIN:VEVENT
UID:6674
DTSTAMP:20260424T100801
DTSTART:20121107T160000
DTEND:20121107T000000
SUMMARY:Taller de manualitats i artesania: dimecres 7, 14 i 21 de novembre
LOCATION:
METHOD:PUBLISH
X-WR-CALNAME:caldesm@caldesdemontbui.cat
X-WR-TIMEZONE:Europe/Madrid
DESCRIPTION:
URI:https://www.caldesdemontbui.cat/actualitat/agenda/taller-de-manualitats-i-artesania-dimecres-7-14-i-21-de-novembre.html
CLASS:PUBLIC
END:VEVENT
END:VCALENDAR
