BEGIN:VCALENDAR
VERSION:2.0
CALSCALE:GREGORIAN
PRODID:-//Diputació de Barcelona//DibaCMS//EN
BEGIN:VEVENT
UID:6672
DTSTAMP:20260424T100833
DTSTART:20121105T193000
DTEND:20121105T000000
SUMMARY:Inici de l'exposició "Joan Maragall, el poeta extasiat". Visiteu-la fins el 17 de novembre
LOCATION:
METHOD:PUBLISH
X-WR-CALNAME:caldesm@caldesdemontbui.cat
X-WR-TIMEZONE:Europe/Madrid
DESCRIPTION:
URI:https://www.caldesdemontbui.cat/actualitat/agenda/inici-de-lexposicio-joan-maragall-el-poeta-extasiat-visiteu-la-fins-el-17-de-novembre.html
CLASS:PUBLIC
END:VEVENT
END:VCALENDAR
