BEGIN:VCALENDAR
VERSION:2.0
CALSCALE:GREGORIAN
PRODID:-//Diputació de Barcelona//DibaCMS//EN
BEGIN:VEVENT
UID:6671
DTSTAMP:20260424T100719
DTSTART:20121105T190000
DTEND:20121105T000000
SUMMARY:Inauguració de l'exposició de l'Obra Gràfica d'Antoni Vila Delclòs. Visiteu-la fins el 25 de novembre
LOCATION:
METHOD:PUBLISH
X-WR-CALNAME:caldesm@caldesdemontbui.cat
X-WR-TIMEZONE:Europe/Madrid
DESCRIPTION:
URI:https://www.caldesdemontbui.cat/actualitat/agenda/inauguracio-de-lexposicio-de-lobra-grafica-dantoni-vila-delclos-visiteu-la-fins-el-25-de-novembre.html
CLASS:PUBLIC
END:VEVENT
END:VCALENDAR
