BEGIN:VCALENDAR
VERSION:2.0
CALSCALE:GREGORIAN
PRODID:-//Diputació de Barcelona//DibaCMS//EN
BEGIN:VEVENT
UID:6670
DTSTAMP:20260425T132055
DTSTART:20121104T000000
DTEND:20121104T000000
SUMMARY:Sortida a la Garrotxa, entorns d'Hostalets d'en Bas
LOCATION:
METHOD:PUBLISH
X-WR-CALNAME:caldesm@caldesdemontbui.cat
X-WR-TIMEZONE:Europe/Madrid
DESCRIPTION:
URI:https://www.caldesdemontbui.cat/actualitat/agenda/sortida-a-la-garrotxa-entorns-dhostalets-den-bas.html
CLASS:PUBLIC
END:VEVENT
END:VCALENDAR
