BEGIN:VCALENDAR
VERSION:2.0
CALSCALE:GREGORIAN
PRODID:-//Diputació de Barcelona//DibaCMS//EN
BEGIN:VEVENT
UID:6666
DTSTAMP:20260425T143023
DTSTART:20121031T160000
DTEND:20121031T000000
SUMMARY:La Castanyada
LOCATION:
METHOD:PUBLISH
X-WR-CALNAME:caldesm@caldesdemontbui.cat
X-WR-TIMEZONE:Europe/Madrid
DESCRIPTION:
URI:https://www.caldesdemontbui.cat/actualitat/agenda/la-castanyada.html
CLASS:PUBLIC
END:VEVENT
END:VCALENDAR
