BEGIN:VCALENDAR
VERSION:2.0
CALSCALE:GREGORIAN
PRODID:-//Diputació de Barcelona//DibaCMS//EN
BEGIN:VEVENT
UID:6658
DTSTAMP:20260424T131622
DTSTART:20121026T180000
DTEND:20121026T000000
SUMMARY:Hora del conte: Qui vola en aquesta escombra?
LOCATION:
METHOD:PUBLISH
X-WR-CALNAME:caldesm@caldesdemontbui.cat
X-WR-TIMEZONE:Europe/Madrid
DESCRIPTION:
URI:https://www.caldesdemontbui.cat/actualitat/agenda/hora-del-conte-qui-vola-en-aquesta-escombra.html
CLASS:PUBLIC
END:VEVENT
END:VCALENDAR
