BEGIN:VCALENDAR
VERSION:2.0
CALSCALE:GREGORIAN
PRODID:-//Diputació de Barcelona//DibaCMS//EN
BEGIN:VEVENT
UID:6656
DTSTAMP:20260424T113614
DTSTART:20121024T160000
DTEND:20121024T000000
SUMMARY:La cuina de bolets, per Maria Garcia
LOCATION:
METHOD:PUBLISH
X-WR-CALNAME:caldesm@caldesdemontbui.cat
X-WR-TIMEZONE:Europe/Madrid
DESCRIPTION:
URI:https://www.caldesdemontbui.cat/actualitat/agenda/la-cuina-de-bolets-per-maria-garcia.html
CLASS:PUBLIC
END:VEVENT
END:VCALENDAR
