BEGIN:VCALENDAR
VERSION:2.0
CALSCALE:GREGORIAN
PRODID:-//Diputació de Barcelona//DibaCMS//EN
BEGIN:VEVENT
UID:6655
DTSTAMP:20260424T081015
DTSTART:20121024T090000
DTEND:20121024T000000
SUMMARY:Caminada a Torre Marimon i can Pujol
LOCATION:
METHOD:PUBLISH
X-WR-CALNAME:caldesm@caldesdemontbui.cat
X-WR-TIMEZONE:Europe/Madrid
DESCRIPTION:
URI:https://www.caldesdemontbui.cat/actualitat/agenda/caminada-a-torre-marimon-i-can-pujol.html
CLASS:PUBLIC
END:VEVENT
END:VCALENDAR
