BEGIN:VCALENDAR
VERSION:2.0
CALSCALE:GREGORIAN
PRODID:-//Diputació de Barcelona//DibaCMS//EN
BEGIN:VEVENT
UID:6652
DTSTAMP:20260424T062820
DTSTART:20121019T190000
DTEND:20121019T000000
SUMMARY:Recital i presentació del llibre Carrer Malats de Josep Checa (poeta calderí) i Esther Obradors (fotografies).
LOCATION:
METHOD:PUBLISH
X-WR-CALNAME:caldesm@caldesdemontbui.cat
X-WR-TIMEZONE:Europe/Madrid
DESCRIPTION:
URI:https://www.caldesdemontbui.cat/actualitat/agenda/recital-i-presentacio-del-llibre-carrer-malats-de-josep-checa-poeta-calderi-i-esther-obradors-fotografies.html
CLASS:PUBLIC
END:VEVENT
END:VCALENDAR
