BEGIN:VCALENDAR
VERSION:2.0
CALSCALE:GREGORIAN
PRODID:-//Diputació de Barcelona//DibaCMS//EN
BEGIN:VEVENT
UID:6647
DTSTAMP:20260425T130537
DTSTART:20121017T160000
DTEND:20121017T000000
SUMMARY:Excursió al Port de Tarragona i Museu
LOCATION:
METHOD:PUBLISH
X-WR-CALNAME:caldesm@caldesdemontbui.cat
X-WR-TIMEZONE:Europe/Madrid
DESCRIPTION:
URI:https://www.caldesdemontbui.cat/actualitat/agenda/excursio-al-port-de-tarragona-i-museu.html
CLASS:PUBLIC
END:VEVENT
END:VCALENDAR
