BEGIN:VCALENDAR
VERSION:2.0
CALSCALE:GREGORIAN
PRODID:-//Diputació de Barcelona//DibaCMS//EN
BEGIN:VEVENT
UID:6644
DTSTAMP:20260424T080420
DTSTART:20121013T120000
DTEND:20121013T000000
SUMMARY:Del 13 al 31 d'octubre: Exposició del Taller d'Art Municipal Manolo Hugué
LOCATION:
METHOD:PUBLISH
X-WR-CALNAME:caldesm@caldesdemontbui.cat
X-WR-TIMEZONE:Europe/Madrid
DESCRIPTION:
URI:https://www.caldesdemontbui.cat/actualitat/agenda/del-13-al-31-doctubre-exposicio-del-taller-dart-municipal-manolo-hugue.html
CLASS:PUBLIC
END:VEVENT
END:VCALENDAR
