BEGIN:VCALENDAR
VERSION:2.0
CALSCALE:GREGORIAN
PRODID:-//Diputació de Barcelona//DibaCMS//EN
BEGIN:VEVENT
UID:6642
DTSTAMP:20260424T113758
DTSTART:20121010T090000
DTEND:20121010T000000
SUMMARY:Sortida a la presa
LOCATION:
METHOD:PUBLISH
X-WR-CALNAME:caldesm@caldesdemontbui.cat
X-WR-TIMEZONE:Europe/Madrid
DESCRIPTION:
URI:https://www.caldesdemontbui.cat/actualitat/agenda/sortida-a-la-presa.html
CLASS:PUBLIC
END:VEVENT
END:VCALENDAR
