BEGIN:VCALENDAR
VERSION:2.0
CALSCALE:GREGORIAN
PRODID:-//Diputació de Barcelona//DibaCMS//EN
BEGIN:VEVENT
UID:6635
DTSTAMP:20260424T080449
DTSTART:20120928T180000
DTEND:20120928T000000
SUMMARY:Hora del conte: Taula de contes, a càrrec de Mercè Rubí
LOCATION:
METHOD:PUBLISH
X-WR-CALNAME:caldesm@caldesdemontbui.cat
X-WR-TIMEZONE:Europe/Madrid
DESCRIPTION:
URI:https://www.caldesdemontbui.cat/actualitat/agenda/hora-del-conte-taula-de-contes-a-carrec-de-merce-rubi.html
CLASS:PUBLIC
END:VEVENT
END:VCALENDAR
