BEGIN:VCALENDAR
VERSION:2.0
CALSCALE:GREGORIAN
PRODID:-//Diputació de Barcelona//DibaCMS//EN
BEGIN:VEVENT
UID:6633
DTSTAMP:20260424T080211
DTSTART:20120927T193000
DTEND:20120927T000000
SUMMARY:Projecció de l'audiovisual "Seguint la petjada dels càtars, camí dels bons homes", amb Tomàs Mas i Manel Figuera.
LOCATION:
METHOD:PUBLISH
X-WR-CALNAME:caldesm@caldesdemontbui.cat
X-WR-TIMEZONE:Europe/Madrid
DESCRIPTION:
URI:https://www.caldesdemontbui.cat/actualitat/agenda/projeccio-de-laudiovisual-seguint-la-petjada-dels-catars-cami-dels-bons-homes-amb-tomas-mas-i-manel-figuera.html
CLASS:PUBLIC
END:VEVENT
END:VCALENDAR
