BEGIN:VCALENDAR
VERSION:2.0
CALSCALE:GREGORIAN
PRODID:-//Diputació de Barcelona//DibaCMS//EN
BEGIN:VEVENT
UID:6629
DTSTAMP:20260424T113539
DTSTART:20120922T100000
DTEND:20120922T000000
SUMMARY:Cicle "Endolcim la vida": aprenem a fer pasta de full
LOCATION:
METHOD:PUBLISH
X-WR-CALNAME:caldesm@caldesdemontbui.cat
X-WR-TIMEZONE:Europe/Madrid
DESCRIPTION:
URI:https://www.caldesdemontbui.cat/actualitat/agenda/cicle-endolcim-la-vida-aprenem-a-fer-pasta-de-full.html
CLASS:PUBLIC
END:VEVENT
END:VCALENDAR
